Workbook

Sheet 총칙
A2: Ⅰ. 예산총칙
A4: 제 1 조. (예산의 규모) 2023년도 부산동구시니어클럽 4차 추가경정 세입·세출 예산(안)의 규모는 다음과 같다.
B6: 가. 세입예산액 : 8,575,772,428원
B7: 나. 세출예산액 : 8,575,772,428원
A9: 제 2 조. (예산내역) 부산동구시니어클럽 4차 추가경정 추가경정 세입·세출 예산(안)의 편성내역은 별지와 같다.
A11: 제 3 조. (예산의 집행) 예산은 사회복지법인 및 시설의 재무·회계규칙 관계규정을 준수하여 집행한다.
A13: 제 4 조. (추가경정 예산성립전 집행) 회계연도중에 국가 또는 지방자치단체나 후원자 등으로부터 그 용도가 지정되고 소요전액이 교부된 경비 또는 목적이 지정된
B15: 후원금 등은 추가경정예산 성립전에 이를 사용할 수 있으며, 이는 동일회계연도 내의 차기 추가경정예산에 편성하여야 한다.
B17: 다만, 목적지정 지원금이 교부된 이후 추가경정예산을 편성하지 못할 경우 이사회의 심의를 받은 것으로 간주 처리 한다.
A19: 제 5 조. (예산의 전용) 예산은 업무수행중 필요시 아래 과목간 전용의 원칙에 따라 전용할 수 있다.
B21: 가. 예산의 과목중 관, 항의 전용은 법인 이사회의 의결 또는 시설운영위원회의 보고를 요한다.
B22: 나. 예산의 과목중 목간 전용은 관장의 결재로써 전용할 수 있다. 다만 이 경우에는 연도말 결산서에 목간전용조서를 첨부하여 제출하여야 한다.
B23: 다. 예비비 사용은 이사장의 사전승인을 요한다.

Sheet 총괄
A1: 2023년도 부산동구시니어클럽 4차 추경예산 총괄표(안)
A3: (단위 : 천원)
A4: 세 입 | D4: 세 출
A5: 항 목 | B5: 금 액 | C5: 비 율(%) | D5: 항 목 | E5: 금 액 | F5: 비 율(%)
A6: 총 액 | B6: =SUM(B7:B12) -> 8575772.4 | C6: =SUM(C7:C12) -> 100 | D6: 총 액 | E6: =SUM(E7:E13) -> 8575772.4 | F6: =SUM(F7:F13) -> 100
A7: 사 업 수 입 | B7: =총괄표!E8 -> 1167165 | C7: =B7/$B$6*100 -> 13.610028 | D7: 인 건 비 | E7: =총괄표!L8 -> 332548.86 | F7: =E7/$E$6*100 -> 3.8777715
A8: 보조금수입 | B8: =총괄표!E18 -> 7101810 | C8: =B8/$B$6*100 -> 82.812482 | D8: 업무추진비 | E8: =총괄표!L14 -> 2000 | F8: =E8/$E$6*100 -> 0.023321514
A9: 후원금수입 | B9: =총괄표!E23 -> 12840 | C9: =B9/$B$6*100 -> 0.14972412 | D9: 운 영 비 | E9: =총괄표!L17 -> 47119 | F9: =E9/$E$6*100 -> 0.54944322
A10: 전 입 금 | B10: =총괄표!E28 -> 16100 | C10: =B10/$B$6*100 -> 0.18773819 | D10: 시 설 비 | E10: =총괄표!L25 -> 3200 | F10: =E10/$E$6*100 -> 0.037314423
A11: 이 월 금 | B11: =총괄표!E35 -> 263192.43 | C11: =B11/$B$6*100 -> 3.069023 | D11: 사 업 비 | E11: =총괄표!L28 -> 8171451.1 | F11: =E11/$E$6*100 -> 95.285307
A12: 잡 수 입 | B12: =총괄표!E39 -> 14665 | C12: =B12/$B$6*100 -> 0.171005 | D12: 잡 지 출 | E12: =총괄표!L49 -> 1000 | F12: =E12/$E$6*100 -> 0.011660757
D13: 예비비 및 기타 | E13: =총괄표!L52 -> 18453.471 | F13: =E13/$E$6*100 -> 0.21518144

Sheet 총괄표
A1: =내역서!A1 -> 2023년도 부산동구시니어클럽 4차 추가경정예산 내역서(안)
A2: 세입·세출 총괄(1) | H2: (단위 : 천원)
A3: 세 입 | H3: 세 출
A4: 과 목 | D4: =내역서!D3 -> 2023년3차추경예산(A) | E4: =내역서!E3 -> 2023년4차추경예산(B) | F4: 증감(B-A) | H4: 과 목 | K4: =D4 -> 2023년3차추경예산(A) | L4: =E4 -> 2023년4차추경예산(B) | M4: 증감(B-A)
A5: 관 | B5: 항 | C5: 목 | F5: 금액 | G5: 비율(%) | H5: 관 | I5: 항 | J5: 목 | M5: 금액 | N5: 비율(%)
A6: 총 계 | D6: =내역서!D5 -> 8667151.4 | E6: =SUM(E7,E18,E28,E35,E38,E23) -> 8575772.4 | F6: =E6-D6 -> -91379 | G6: =F6/D6*100 -> -1.0543141 | H6: 총 계 | K6: =내역서!D137 -> 8667151.4 | L6: =L7+L24+L28+L49+L52 -> 8575772.4 | M6: =L6-K6 -> -91379 | N6: =M6/K6*100 -> -1.0543141
A7: 사 업 | B7: 계 | D7: =내역서!D7 -> 1256534 | E7: =E8 -> 1167165 | F7: =E7-D7 -> -89369 | G7: =F7/D7*100 -> -7.1123424 | H7: 사무비 | I7: 계 | K7: =SUM(K8,K14,K17) -> 391773.64 | L7: =SUM(L8,L14,L17) -> 381667.86 | M7: =L7-K7 -> -10105.78 | N7: =M7/K7*100 -> -2.5794946
A8: 수 입 | B8: 사 업 | C8: 소계 | D8: =내역서!D7 -> 1256534 | E8: =SUM(E9:E17) -> 1167165 | F8: =E8-D8 -> -89369 | G8: =F8/D8*100 -> -7.1123424 | I8: 인건비 | J8: 소계 | K8: =SUM(K9:K13) -> 341803.14 | L8: =SUM(L9:L13) -> 332548.86 | M8: =L8-K8 -> -9254.28 | N8: =M8/K8*100 -> -2.7074883
B9: 수 입 | C9: =내역서!C8 -> 한땀한땀사업 | D9: =내역서!D8 -> 33600 | E9: =내역서!E8 -> 32000 | F9: =E9-D9 -> -1600 | G9: =F9/D9*100 -> -4.7619048 | J9: 급여 | K9: =내역서!D140 -> 236879.89 | L9: =내역서!E140 -> 230865.01 | M9: =L9-K9 -> -6014.88 | N9: =M9/K9*100 -> -2.5392109
C10: =내역서!C9 -> 청춘6099사업 | D10: =내역서!D9 -> 280000 | E10: =내역서!E9 -> 135000 | F10: =E10-D10 -> -145000 | G10: =F10/D10*100 -> -51.785714 | J10: 제수당 | K10: =내역서!D154 -> 40768.38 | L10: =내역서!E154 -> 39022.46 | M10: =L10-K10 -> -1745.92 | N10: -
C11: =내역서!C10 -> 우렁할매사업 | D11: =내역서!D10 -> 88000 | E11: =내역서!E10 -> 94400 | F11: =E11-D11 -> 6400 | G11: =F11/D11*100 -> 7.2727273 | J11: 퇴직금및퇴직적립금 | K11: =내역서!D174 -> 32420.69 | L11: =내역서!E174 -> 29490.63 | M11: =L11-K11 -> -2930.06 | N11: =M11/K11*100 -> -9.0376238
C12: =내역서!C11 -> 화통한할매도시락사업 | D12: =내역서!D11 -> 249240 | E12: =내역서!E11 -> 277200 | F12: =E12-D12 -> 27960 | G12: =F12/D12*100 -> 11.218103 | J12: 사회보험부담금 | K12: =내역서!D175 -> 29734.18 | L12: =내역서!E175 -> 29070.76 | M12: =L12-K12 -> -663.42 | N12: =M12/K12*100 -> -2.2311697
C13: =내역서!C12 -> 화통한할매밥상사업 | D13: =내역서!D12 -> 300000 | E13: =내역서!E12 -> 378450 | F13: =E13-D13 -> 78450 | G13: =F13/D13*100 -> 26.15 | J13: 기타후생경비 | K13: =내역서!D180 -> 2000 | L13: =내역서!E180 -> 4100 | M13: =L13-K13 -> 2100 | N13: =M13/K13*100 -> 105
C14: =내역서!C13 -> 하하호호사업 | D14: =내역서!D13 -> 30000 | E14: =내역서!E13 -> 32000 | F14: =E14-D14 -> 2000 | G14: =F14/D14*100 -> 6.6666667 | I14: 업 무 | J14: 소계 | K14: =K15+K16 -> 3000 | L14: =L15+L16 -> 2000 | M14: =L14-K14 -> -1000 | N14: =M14/K14*100 -> -33.333333
C15: =내역서!C14 -> 168배틀트립사업 | D15: =내역서!D14 -> 80000 | E15: =내역서!E14 -> 28000 | F15: =E15-D15 -> -52000 | G15: =F15/D15*100 -> -65 | I15: 추진비 | J15: 기관운영비 | K15: =내역서!D183 -> 1000 | L15: =내역서!E183 -> 1000 | M15: =L15-K15 -> 0 | N15: =M15/K15*100 -> 0
C16: =내역서!C15 -> 어묵168사업 | D16: =내역서!D15 -> 70000 | E16: =내역서!E15 -> 60000 | F16: =E16-D16 -> -10000 | G16: =F16/D16*100 -> -14.285714 | J16: 회의비 | K16: =내역서!D184 -> 2000 | L16: =내역서!E184 -> 1000 | M16: =L16-K16 -> -1000 | N16: =M16/K16*100 -> -50
C17: =내역서!C16 -> 어린이대공원녹지관리사업 | D17: =내역서!D16 -> 125694 | E17: =내역서!E16 -> 130115 | F17: =E17-D17 -> 4421 | G17: =F17/D17*100 -> 3.5172721 | I17: 운영비 | J17: 소계 | K17: =SUM(K18:K23) -> 46970.5 | L17: =SUM(L18:L23) -> 47119 | M17: 148 | N17: =M17/K17*100 -> 0.31509139
A18: 보조금 | B18: 계 | D18: =D19 -> 7101810 | E18: =E19 -> 7101810 | F18: =E18-D18 -> 0 | G18: =F18/D18*100 -> 0 | J18: 여비 | K18: =내역서!D186 -> 2000 | L18: =내역서!E186 -> 2500 | M18: =L18-K18 -> 500 | N18: =M18/K18*100 -> 25
A19: 수 입 | B19: 보조금 | C19: 소계 | D19: =SUM(D20:D22) -> 7101810 | E19: =SUM(E20:E22) -> 7101810 | F19: =SUM(F20:F22) -> 0 | G19: =F19/D19*100 -> 0 | J19: 수용비및수수료 | K19: =내역서!D187 -> 26080.5 | L19: =내역서!E187 -> 23279 | M19: =L19-K19 -> -2801.5 | N19: =M19/K19*100 -> -10.741742
B20: 수 입 | C20: 국고보조금 | D20: =내역서!D22 -> 3342367.5 | E20: =내역서!E22 -> 3342367.5 | F20: =E20-D20 -> 0 | G20: =F20/D20*100 -> 0 | J20: 공공요금 | K20: =내역서!D194 -> 5800 | L20: =내역서!E194 -> 5800 | M20: =L20-K20 -> 0 | N20: =M20/K20*100 -> 0
C21: 시도보조금 | D21: =내역서!D54 -> 2371449.5 | E21: =내역서!E54 -> 2371449.5 | F21: =E21-D21 -> 0 | G21: =F21/D21*100 -> 0 | J21: 제세공과금 | K21: =내역서!D199 -> 8590 | L21: =내역서!E199 -> 8740 | M21: =L21-K21 -> 150 | N21: =M21/K21*100 -> 1.7462165
C22: 시군구보조금 | D22: =내역서!D86 -> 1387993 | E22: =내역서!E86 -> 1387993 | F22: =E22-D22 -> 0 | G22: =F22/D22*100 -> 0 | J22: 차량비 | K22: =내역서!D202 -> 2500 | L22: =내역서!E202 -> 4800 | M22: =L22-K22 -> 2300 | N22: =M22/K22*100 -> 92
A23: 후원금 | B23: 계 | D23: =D24 -> 14850 | E23: =E24 -> 12840 | F23: =E23-D23 -> -2010 | G23: =F23/D23*100 -> -13.535354 | J23: 기타운영비 | K23: =내역서!D204 -> 2000 | L23: =내역서!E204 -> 2000 | M23: =L23-K23 -> 0 | N23: =M23/K23*100 -> 0
A24: 수 입 | B24: 후원금 | C24: 소계 | D24: =SUM(D25:D27) -> 14850 | E24: =SUM(E25:E27) -> 12840 | F24: =E24-D24 -> -2010 | G24: =F24/D24*100 -> -13.535354 | H24: 재 산 | I24: 계 | K24: =K25 -> 2000 | L24: =L25 -> 3200 | M24: =L24-K24 -> 1200 | N24: =M24/K24*100 -> 60
B25: 수 입 | C25: 지정후원금 | D25: =내역서!D119 -> 4850 | E25: =내역서!E119 -> 4840 | F25: =E25-D25 -> -10 | G25: =F25/D25*100 -> -0.20618557 | H25: 조성비 | I25: 시설비 | J25: 소계 | K25: =SUM(K26:K27) -> 2000 | L25: =SUM(L26:L27) -> 3200 | M25: =L25-K25 -> 1200 | N25: =M25/K25*100 -> 60
C26: 비지정후원금 | D26: =내역서!D120 -> 10000 | E26: =내역서!E120 -> 8000 | F26: =E26-D26 -> -2000 | G26: =F26/D26*100 -> -20 | J26: 시설비 | K26: =내역서!D210 -> 0 | L26: =내역서!E210 -> 2200 | M26: =L26-K26 -> 2200 | N26: 0
J27: 시설장비유지비 | K27: =내역서!D211 -> 2000 | L27: =내역서!E211 -> 1000 | M27: =L27-K27 -> -1000 | N27: =M27/K27*100 -> -50
A28: 전입금 | B28: 계 | D28: =D29 -> 16100 | E28: =E29 -> 16100 | F28: =E28-D28 -> 0 | G28: =F28/D28*100 -> 0 | H28: 사업비 | I28: 계 | K28: =K29+K35 -> 8253925.1 | L28: =L29+L35 -> 8171451.1 | M28: =L28-K28 -> -82474.043 | N28: =M28/K28*100 -> -0.99920997
B29: 전입금 | C29: 소계 | D29: =D30 -> 16100 | E29: =E30 -> 16100 | F29: =E29-D29 -> 0 | G29: =F29/D29*100 -> 0 | I29: 사업비 | J29: 소계 | K29: =K30 -> 13246.5 | L29: =L30 -> 22251.5 | M29: =L29-K29 -> 9005 | N29: =M29/K29*100 -> 67.980221
C30: 법인전입금 | D30: =내역서!D123 -> 16100 | E30: =내역서!E123 -> 16100 | F30: =E30-D30 -> 0 | G30: =F30/D30*100 -> 0 | J30: =내역서!C214 -> 기타사업 | K30: =내역서!D213 -> 13246.5 | L30: =내역서!E213 -> 22251.5 | M30: =L30-K30 -> 9005 | N30: =M30/K30*100 -> 67.980221
A31: 세입·세출 총괄(2) | H31: (단위 : 천원)
A32: 세 입 | H32: 세 출
A33: 과 목 | D33: =D4 -> 2023년3차추경예산(A) | E33: =E4 -> 2023년4차추경예산(B) | F33: 증감(B-A) | H33: 과 목 | K33: =K4 -> 2023년3차추경예산(A) | L33: =L4 -> 2023년4차추경예산(B) | M33: 증감(B-A)
A34: 관 | B34: 항 | C34: 목 | F34: 금액 | G34: 비율(%) | H34: 관 | I34: 항 | J34: 목 | M34: 금액 | N34: 비율(%)
A35: 이월금 | B35: 계 | D35: =D36 -> 263192.47 | E35: =E36 -> 263192.43 | F35: =F36 -> -0.04 | G35: =F35/D35*100 -> -1.5198003e-05 | H35: 사업비 | I35: 사업비 | J35: 소계 | K35: =SUM(K36:K48) -> 8240678.6 | L35: =SUM(L36:L48) -> 8149199.6 | M35: =SUM(M36:M48) -> -91479.043 | N35: =M35/K35*100 -> -1.1100911
B36: 이월금 | C36: 소계 | D36: =D37 -> 263192.47 | E36: =E37 -> 263192.43 | F36: =F37 -> -0.04 | G36: =F36/D36*100 -> -1.5198003e-05 | J36: =내역서!C226 -> 공익형사업단 | K36: =내역서!D226 -> 2817630 | L36: =내역서!E226 -> 2817630 | M36: =L36-K36 -> 0 | N36: =M36/K36*100 -> 0
C37: 전년도이월금 | D37: =내역서!D126 -> 263192.47 | E37: =내역서!E126 -> 263192.43 | F37: =E37-D37 -> -0.04 | G37: =F37/D37*100 -> -1.5198003e-05 | J37: =내역서!C243 -> 사회서비스사업비 | K37: =내역서!D243 -> 2815505 | L37: =내역서!E243 -> 2815505 | M37: =L37-K37 -> 0 | N37: =M37/K37*100 -> 0
A38: 잡수입 | B38: 계 | D38: =D39 -> 14665 | E38: =E39 -> 14665 | F38: =E38-D38 -> 0 | G38: =F38/D38*100 -> 0 | J38: =내역서!C263 -> 동구신중년모니터링단 | K38: =내역서!D263 -> 60000 | L38: =내역서!E263 -> 60000 | M38: =L38-K38 -> 0 | N38: =M38/K38*100 -> 0
B39: 잡수입 | C39: 소계 | D39: =D40+D41 -> 14665 | E39: =E40+E41 -> 14665 | F39: =E39-D39 -> 0 | G39: =F39/D39*100 -> 0 | J39: =내역서!C265 -> 한땀한땀사업 | K39: =내역서!D265 -> 132451 | L39: =내역서!E265 -> 130923 | M39: =L39-K39 -> -1528 | N39: =M39/K39*100 -> -1.1536342
C40: 기타예금이자수입 | D40: =내역서!D132 -> 165 | E40: =내역서!E132 -> 165 | F40: =E40-D40 -> 0 | G40: =F40/D40*100 -> 0 | J40: =내역서!C267 -> 청춘6099사업 | K40: =내역서!D267 -> 427126 | L40: =내역서!E267 -> 282125 | M40: =L40-K40 -> -145001 | N40: =M40/K40*100 -> -33.948062
...

Sheet 내역서
A1: 2023년도 부산동구시니어클럽 4차 추가경정예산 내역서(안)
A2: 세입 내역(1) | D2: (단위 : 천원) | H2: (단위 : 원)
A3: 과 목 | D3: 2023년3차추경예산(A) | E3: 2023년4차추경예산(B) | F3: 증 감(B-A) | H3: 산출내역
A4: 관 | B4: 항 | C4: 목 | F4: 금액 | G4: 비율(%)
A5: 총 계 | D5: 8667151.4 | E5: =E7+E20+E117+E121+E124+E130 -> 8575772.4 | F5: =E5-D5 -> -91379 | G5: =F5/D5*100 -> -1.0543141 | H5: 총 계 | Q5: =Q7+Q20+Q117+Q121+Q124+Q130 -> 8575772428
A6: 사 업 | B6: 계 | D6: =D7 -> 1256534 | E6: =E7 -> 1167165 | F6: =F7 -> -89369 | G6: =G7 -> -7.1123424 | H6: 계 | Q6: =Q7 -> 1167165000
A7: 수 입 | B7: 사 업 | C7: 소계 | D7: 1256534 | E7: =SUM(E8:E16) -> 1167165 | F7: =E7-D7 -> -89369 | G7: =F7/D7*100 -> -7.1123424 | H7: 소 계 | Q7: =SUM(Q8:Q16) -> 1167165000
B8: 수 입 | C8: 한땀한땀사업 | D8: 33600 | E8: =Q8/1000 -> 32000 | F8: =E8-D8 -> -1600 | G8: =F8/D8*100 -> -4.7619048 | H8: - 한땀한땀사업수익금 | I8: =Q8/N8/1000 -> 2666.6667 | M8: x | N8: 12 | O8: 월 | P8: = | Q8: 32000000
C9: 청춘6099사업 | D9: 280000 | E9: =Q9/1000 -> 135000 | F9: =E9-D9 -> -145000 | G9: =F9/D9*100 -> -51.785714 | H9: - 청춘6099사업수익금 | I9: =Q9/N9/1000 -> 11250 | M9: x | N9: 12 | O9: 월 | P9: = | Q9: 135000000
C10: 우렁할매사업 | D10: 88000 | E10: =Q10/1000 -> 94400 | F10: =E10-D10 -> 6400 | G10: =F10/D10*100 -> 7.2727273 | H10: - 우렁할매사업수익금 | I10: =Q10/N10/1000 -> 7866.6667 | M10: x | N10: 12 | O10: 월 | P10: = | Q10: 94400000
C11: 화통한할매도시락사업 | D11: 249240 | E11: =Q11/1000 -> 277200 | F11: =E11-D11 -> 27960 | G11: =F11/D11*100 -> 11.218103 | H11: - 화통한할매도시락사업수익금 | I11: =Q11/N11/1000 -> 23100 | M11: x | N11: 12 | O11: 월 | P11: = | Q11: 277200000
C12: 화통한할매밥상사업 | D12: 300000 | E12: =Q12/1000 -> 378450 | F12: =E12-D12 -> 78450 | G12: =F12/D12*100 -> 26.15 | H12: - 화통한할매밥상사업수익금 | I12: =Q12/N12/1000 -> 31537.5 | M12: x | N12: 12 | O12: 월 | P12: = | Q12: 378450000
C13: 하하호호사업 | D13: 30000 | E13: =Q13/1000 -> 32000 | F13: =E13-D13 -> 2000 | G13: =F13/D13*100 -> 6.6666667 | H13: - 하하호호사업수익금 | I13: =Q13/N13/1000 -> 3200 | M13: x | N13: 10 | O13: 월 | P13: = | Q13: 32000000
C14: 168배틀트립사업 | D14: 80000 | E14: =Q14/1000 -> 28000 | F14: =E14-D14 -> -52000 | G14: =F14/D14*100 -> -65 | H14: - 168배틀트립사업수익금 | I14: =Q14/N14/1000 -> 2333.3333 | M14: x | N14: 12 | O14: 월 | P14: = | Q14: 28000000
C15: 어묵168사업 | D15: 70000 | E15: =Q15/1000 -> 60000 | F15: =E15-D15 -> -10000 | G15: =F15/D15*100 -> -14.285714 | H15: - 어묵168사업수익금 | I15: =Q15/N15/1000 -> 5000 | M15: x | N15: 12 | O15: 월 | P15: = | Q15: 60000000
C16: 어린이대공원녹지관리사업 | D16: 125694 | E16: 130115 | F16: =E16-D16 -> 4421 | G16: =F16/D16*100 -> 3.5172721 | H16: - 어린이대공원녹지관리사업수익금 | I16: =Q16/N16/1000 -> 10842.917 | M16: x | N16: 12 | O16: 월 | P16: = | Q16: 130115000
A17: 세입 내역(2) | D17: (단위 : 천원) | H17: (단위 : 원)
A18: 과 목 | D18: 2023년3차추경예산(A) | E18: 2023년4차추경예산(B) | F18: 증 감(B-A) | H18: 산출내역
A19: 관 | B19: 항 | C19: 목 | F19: 금액 | G19: 비율(%)
A20: 보조금 | B20: 계 | D20: 7101810 | E20: =E21 -> 7101810 | F20: =E20-D20 -> 0 | G20: =F20/D20*100 -> 0 | H20: 계 | Q20: =Q21 -> 7101810000
A21: 수 입 | B21: 보조금 | C21: 소계 | D21: 7101810 | E21: =E22+E54+E86 -> 7101810 | F21: =E21-D21 -> 0 | G21: =F21/D21*100 -> 0 | H21: 소 계 | Q21: =Q22+Q49+Q50+Q54+Q82+Q81+Q86+Q87 -> 7101810000
B22: 수 입 | C22: 국고보조금 | D22: 3342367.5 | E22: =(Q22+Q49+Q50)/1000 -> 3342367.5 | F22: =E22-D22 -> 0 | G22: =F22/D22*100 -> 0 | H22: - 노인일자리사업비 보조금 | I22: =SUM(I23:I48) -> 6668735000 | M22: x | N22: 0.5 | P22: = | Q22: =I22*N22 -> 3334367500
H23: · 한땀한땀사업 | I23: 93450000 | M23: x | N23: 0.5 | P23: = | Q23: =I23*N23 -> 46725000
H24: · 청춘6099사업 | I24: 80100000 | M24: x | N24: 0.5 | P24: = | Q24: =I24*N24 -> 40050000
H25: · 우렁할매사업 | I25: 66750000 | M25: x | N25: 0.5 | P25: = | Q25: =I25*N25 -> 33375000
H26: · 화통한할매도시락 | I26: 93450000 | M26: x | N26: 0.5 | P26: = | Q26: =I26*N26 -> 46725000
H27: · 화통한할매밥상 | I27: 120150000 | M27: x | N27: 0.5 | P27: = | Q27: =I27*N27 -> 60075000
H28: · 하하호호 | I28: 93450000 | M28: x | N28: 0.5 | P28: = | Q28: =I28*N28 -> 46725000
H29: · 168배틀트립 | I29: 66750000 | M29: x | N29: 0.5 | P29: = | Q29: =I29*N29 -> 33375000
H30: · 어묵168 | I30: 80100000 | M30: x | N30: 0.5 | P30: = | Q30: =I30*N30 -> 40050000
H31: · 동구문화지킴이 | I31: 866250000 | M31: x | N31: 0.5 | P31: = | Q31: =I31*N31 -> 433125000
H32: · 너나우리지킴이 | I32: 315000000 | M32: x | N32: 0.5 | P32: = | Q32: =I32*N32 -> 157500000
H33: · 동구환경지킴이 | I33: 803250000 | M33: x | N33: 0.5 | P33: = | Q33: =I33*N33 -> 401625000
H34: · 스쿨지원단-교통 | I34: 280350000 | M34: x | N34: 0.5 | P34: = | Q34: =I34*N34 -> 140175000
... H50: - 노인일자리 인센티브 | I50: 5000000 | M50: x | N50: 1 | P50: = | Q50: =I50*N50 -> 5000000
A51: 세입 내역(3) | D51: (단위 : 천원) | H51: (단위 : 원)
A52: 과 목 | D52: 2023년3차추경예산(A) | E52: 2023년4차추경예산(B) | F52: 증 감(B-A) | H52: 산출내역
A53: 관 | B53: 항 | C53: 목 | F53: 금액 | G53: 비율(%)
A54: 보조금 | B54: 보조금 | C54: 시도보조금 | D54: 2371449.5 | E54: =SUM(Q54+Q81+Q82)/1000 -> 2371449.5 | F54: =E54-D54 -> 0 | G54: =F54/D54*100 -> 0 | H54: - 노인일자리사업비 보조금 | I54: =SUM(I55:I80) -> 6668735000 | M54: x | N54: 0.3 | P54: = | Q54: =I54*N54 -> 2000620500
A55: 수 입 | B55: 수 입 | H55: · 한땀한땀사업 | I55: 93450000 | M55: x | N55: 0.3 | P55: = | Q55: =I55*N55 -> 28035000
...

Sheet 예산편성사유
A1: 예산 편성 사유(2023년 3차 추가경정예산 대비)
A2: 세입 (변동있는 항목만 작성)
A3: 1. 사업수입 : 89,369천원 감소 가) 한땀한땀사업단, 청춘6099사업단, 어묵168사업단, 168배틀트립사업단 매출 감소 예상으로 208,600천원 감소 나) 우렁할매사업단, 화통한할매도시락, 화통한할매밥상, 하하호호사업단 신규거래처 증가로 매출 수익 114,810천원 증가 다) 어린이대공원 예산변경으로 4,421천원 증가
A4: 2. 보조금수입 : 변동없음
A5: 3. 후원금 수입 : 2,010천원 감소 가) 지정후원금 10천원 감소 나) 비지정후원금 2,000천원 감소
A6: 4. 잡수입 : 변동없음
A7: 세출 (변동있는 항목만 작성)
A8: 1. 인건비 : 9,254천원 감소 가. 종사자 입사, 퇴사 변동에 따른 급여 6,015천원 감소 나. 종사자 입사, 퇴사 변동에 따른 제수당 1,746천원 감소 다 .종사자 입사, 퇴사 변동에 따른 퇴직금 2,930천원 감소 라. 종사자 입사, 퇴사 변동에 따른 사회보험부담금 663천원 감소 마. 종사자 기타후생경비 2,100천원 증가
A9: 2. 업무추진비 : 1,000천원 감소 가. 회의비 1,000천원 감소
A10: 3. 운영비 : 148천원 증가 가. 여비 500천원 증가 나. 홈페이지 및 앱 개발 비용 지출항목 변경에 따른 수용비및수수료 2,802천원 감소 다. 제세공과금 150천원 증가 라. 차량 정비 및 블랙박치 설치등으로 차량비 2,300천원 증가
A11: 4. 시설비 : 1,200천원 증가 가. 사무실 전기공사로 인한 시설비 2,200천원 증가 나. 시설장비유지비 1,000천원 감소
A12: 5. 사업비 : 82,474천원 감소 가. 홈페이지 및 앱 개발 비용등으로 기타사업비 9,005천원 증가 나. 한땀한땀사업단 1,528천원, 청춘6099사업단 145,001천원, 어묵168사업단 10,037천원, 168배틀트립 50,625천원 사업비(인건비) 감소 다. 우렁할매사업단 4,168천원, 화통한할매밥상 78,014천원, 하하호호 1,474천원, 화통한할매도시락 27,635천원 사업비 증가 라. 어린이대공원녹지관리사업비 증액으로 4,421천원 증가
A13: 6. 예비비 및 기타 : 1천원 증가
