Workbook

Sheet 표지
A35: 사회복지법인 청 광
A36: 부산동구시니어클럽

Sheet 기관현황
A1: 기관 현황 (2017. 01. 01 - 2017. 12. 31)
A2: 기관명 | B2: 부산동구시니어클럽 | C2: 기관장 | D2: 이동훈
A3: 주소 | B3: 부산 동구 수정동 초량상로 161 SMC빌딩 2층 | C3: 전화번호 | D3: 051-714-6099
A4: 운영유형 | B4: □직영 ■위탁 □기타 | C4: 규모 | D4: 151.48㎡
A5: 직원인원 | B5: 9명 | C5: 일자리 참여자 수 | D5: 525명
A6: 주요연혁
A7: 2012.07.17 | B7: 부산광역시로부터 부산동구시니어클럽 지정
A8: 2012.09.01 | B8: 부산동구시니어클럽 업무 개시
A9: 2012.09.21 | B9: 부산동구시니어클럽 개소식
A10: 2012.11 | B10: 한땀한땀 사업단, 청춘6099 사업단 오픈
A11: 2013년 | B11: 우렁할매 사업단, 청정마실 사업단, 다이나믹6070택배 사업단 오픈
A12: 2014년 | B12: 전통시장 시니어물류센터 사업단, 이바구자전거 사업단 오픈
A13: 2015년 | B13: 동네일등꼬치 사업단, 어린이공원녹지관리 사업단 오픈
A14: 2016년 | B14: 화통한할매도시락 사업단 오픈
A15: 2017년 | B15: 화통한할매밥상사업단, 하하호호사업단 오픈
A16: 주요사업내용
A17: 동구문화지킴이 (지역형) | B17: 동구의 산복도로 르네상스 사업의 공공시설물인 장기려기념 더나눔, 유치환의 우체통등의 시설물 관리 및 여행객들에게 동구의 역사 설명
A18: 너나지킴이 (지역형) | B18: 고독사 고위험군 대상자 안부 확인
A19: 한땀한땀사업단 | B19: 미싱기술사업단으로 미싱관련 물량 외주 받아 작업 실시
A20: 청춘6099사업단 | B20: 유통판매전문사업단으로 사무용품, 기념품, 답례품, 커피용품 등 판매
A21: 우렁할매사업단 | B21: 원룸, 투룸 또는 소규모 아파트 등에 가사 지원
A22: 다이나믹6070택배사업단 | B22: 아파트 택배 물품 배달
A23: 이바구자전거 | B23: 전기자전거에 관광객을 태워 초량 이바구길 코스별 가이드
A24: 화통한할매도시락 | B24: 매장운영을 통한 도시락 제조 및 판매 배달
A25: 화통한할매밥상 | B25: 민주공원식당 및 카페 운영
A26: 하하호호 | B26: 천연다시팩 소분 및 포장
A27: 영재교육카드 | B27: 영재교육카드 정렬 및 포장
A28: 어린이대공원녹지관리 | B28: 어린이대공원 녹지관리 및 산불예방
A29: 주요사업성과
A30: ○ 2017년 부산광역시 부산특화노인일자리 공모사업 선정 • 사업단 명 : 영재교육카드 • 창출 일자리 수 : 20명 ○ 2016년 노인일자리 및 사회활동지원사업 평가대회 대상 수상 • 훈격 : 보건복지부 장관상 • 포상 : 해외 연수 (미국) • 참여 : 과장 안득주 • 일시 : 11월 05일 ~ 11월 12일 ○ 2016년 시장형 최우수 사업단 선정으로 인센티브 지원 • 사업단 명 : 청춘6099, 다이나믹6070택배 사업단 • 금액 : 15,442,000원 ○ 고령자운전성향 연구 조사 협약 체결 • 내용 : 고량자운전 성향 연구 조사 진행으로 연구비 확보 • 대상기관 : 한국기계연구원 • 금액 : 7,000,000원

Sheet 17년사업보고 
A1: 2017년 사업보고
A2: (기관명 : 부산동구시니어클럽)
A3: 사업구분 | B3: 사 업 명 | C3: 내 용 | D3: 실적(정원/참여인원) | E3: 소요금액(천원)
A4: 지역형 | B4: 동구문화지킴이 | C4: 산복도로 공공시설물 관리 및 동구 문화 여행객들에게 안내 | D4: 162/181 | E4: 383940
B5: 너나우리지킴이 | C5: 고독사 고위험군 대상자 안부확인 | D5: 50/64 | E5: 71400
A6: 소 계 | D6: 212/245 | E6: =SUM(E4:E5) -> 455340
A7: 시장형 | B7: 한땀한땀 | C7: 미싱작업으로 외주받아 납품 | D7: 26/30 | E7: 95364
B8: 청춘6099 | C8: 사무용품,기념품 등 유통전문 | D8: 20/20 | E8: 395581
B9: 우렁할매 | C9: 원룸 또는 투룸, 빌라, 아파트 청소 | D9: 18/19 | E9: 105685
B10: 다이나믹6070택배 | C10: 아파트 택배물품 배달 | D10: 60/74 | E10: 437248
B11: 화통한할매도시락 | C11: 매장운영을 통한 도시락 판매 | D11: 15/18 | E11: 183514
B12: 이바구자전거 | C12: 전기자전거로 코스 운영 및 안내 | D12: 30/30 | E12: 106149
B13: 화통한할매밥상 | C13: 민주공원식당 및 카페 운영 | D13: 25/26 | E13: 167527
B14: 하하호호 | C14: 천연다시팩 소분 및 포장 | D14: 31/31 | E14: 88411
B15: 영재교육카드제작 (특화일자리사업) | C15: 영재교육카드 정렬 및 포장 | D15: 20/24 | E15: 42570
A16: 고유사업 | B16: 어린이대공원 | C16: 어린이대공원 녹지관리 | D16: 10/8 | E16: 62538
A17: 소 계 | D17: 255/280 | E17: =SUM(E7:E16) -> 1684587
A18: 합 계 | D18: 467/525 | E18: =E6+E17 -> 2139927

Sheet 17년 결산서총괄-1
A1: 2017년 결산총괄
A2: (기관명 : 부산동구시니어클럽) <단위:천원>
A3: 수 입 | E3: 지 출
A4: 관 | B4: 예산액 (A) | C4: 결산액 (B) | D4: 증감 (A-B) | E4: 관 | F4: 예산액 (A) | G4: 결산액 (B) | H4: 증감 (A-B)
A5: 총 계 | B5: =SUM(B6:B11) -> 2518616 | C5: =C6+C7+C8+C9+C10+C11 -> 2504672.6 | D5: =B5-C5 -> 13943.364 | E5: 총 계 | F5: =SUM(C5:E5) -> 2518616 | G5: =SUM(G6:G11) -> 2504672.6 | H5: =F5-G5 -> 13943.364
A6: 사업수입 | B6: 1173436 | C6: =결산총괄표!$E$7 -> 1159434.8 | D6: =B6-C6 -> 14001.245 | E6: 사무비 | F6: 264651 | G6: =결산총괄표!$L$6 -> 263681.57 | H6: 970
A7: 보조금수입 | B7: 1257089 | C7: =결산총괄표!$E$10 -> 1257089 | D7: =B7-C7 -> 0 | E7: 재산조성비 | F7: 926 | G7: =결산총괄표!$L$22 -> 925.615 | H7: 0
A8: 후원금 | B8: 900 | C8: =결산총괄표!$E$14 -> 950 | D8: =B8-C8 -> -50 | E8: 사업비 | F8: 2250820 | G8: =결산총괄표!$L$25 -> 2175227.6 | H8: =F8-G8 -> 75592.355
A9: 전입금 | B9: 5000 | C9: =결산총괄표!$E$17 -> 5000 | D9: =B9-C9 -> 0 | E9: 잡지출 | F9: 18 | G9: =결산총괄표!$L$40 -> 0 | H9: =F9-G9 -> 18
A10: 잡수입 | B10: 7120 | C10: =결산총괄표!$E$20 -> 7128.083 | D10: =B10-C10 -> -8.083 | E10: 예비비및기타 | F10: 2201 | G10: =결산총괄표!$L$43 -> 2201.092 | H10: 0
A11: 이월금 | B11: 75071 | C11: =결산총괄표!$E$23 -> 75070.798 | D11: - | E11: 이월금 | F11: 0 | G11: =결산총괄표!$L$46 -> 62636.719 | H11: =F11-G11 -> -62636.719
A14: 수 입 | E14: 지 출
A15: 관 | B15: 증감사유 | E15: 관 | F15: 증감사유
A16: 사업수입 | B16: 시장형 사업단 사업 수입이 예산대비 총 14,001천원 감소 | E16: 사 무 비 | F16: 기관운영비, 수용비및수수료 등 예산대비 총 970천원 감소
A17: 보조금수입 | B17: - | E17: 재산조성비 | F17: -
A18: 후원금 | B18: 예산대비 50천원 증가 | E18: 사 업 비 | F18: 청춘6099, 다이나믹6070택배사업단 수익금 감소 및 공익형 추경사업비 반환금 발생등 예산대비 총 75,592천원 감소
A19: 전 입 금 | B19: - | E19: 잡 지 출 | F19: -
A20: 잡 수 입 | B20: - | E20: 예비비및기타 | F20: -
A21: 이 월 금 | B21: - | E21: 이 월 금 | F21: 시장형 사업단 수익금 및 보조금 이월 발생

Sheet 결산총괄표
A1: 2017년 결산 총괄표
A2: 부산동구시니어클럽
A3: 세 입 | H3: 세 출
A4: 관 | B4: 항 | C4: 목 | D4: 예산 | E4: 결산 | F4: 증감 | H4: 관 | I4: 항 | J4: 목 | K4: 예산 | L4: 결산 | N4: 증감
A5: 세입총계 | D5: =SUM(D6,D9,D13,D16,D19,D22) -> 2518616 | E5: =SUM(E6,E9,E16,E19,E22,E13) -> 2504672.6 | F5: =IF(D5-E5<0,"△","") | G5: =D5-E5 -> 13943.364 | H5: 세 출 총 계 | K5: =SUM(K6,K22,K25,K40,K43,K46) -> 2518615.9 | L5: =SUM(L6,L22,L25,L40,L43,L46) -> 2504672.6 | M5: =IF(K5-L5<0,"△","") | N5: =K5-L5 -> 13943.303
A6: 01사업수입 | D6: =D7 -> 1173436 | E6: =E7 -> 1159434.8 | F6: =IF(D6-E6<0,"△","") | G6: =D6-E6 -> 14001.245 | H6: 01사무비 | K6: =SUM(K7,K12,K15) -> 264651.3 | L6: =세출!E5 -> 263681.57 | M6: =IF(K6-L6<0,"△","") | N6: =K6-L6 -> 969.735
B7: 11사업수입 | D7: =D8 -> 1173436 | E7: =E8 -> 1159434.8 | F7: =IF(D7-E7<0,"△","") | G7: =D7-E7 -> 14001.245 | I7: 11인건비 | K7: =SUM(K8:K11) -> 241052.3 | L7: =SUM(L8:L11) -> 241052.3 | M7: =IF(K7-L7<0,"△","") | N7: =K7-L7 -> 0
C8: 111사업수입 | D8: =세입!D7 -> 1173436 | E8: =세입!E7 -> 1159434.8 | F8: =IF(D8-E8<0,"△","") | G8: =D8-E8 -> 14001.245 | J8: 111급여 | K8: =세출!E7 -> 205512 | L8: =세출!E7 -> 205512 | M8: =IF(K8-L8<0,"△","") | N8: -
A9: 03보조금수입 | D9: =D10 -> 1257089 | E9: =E10 -> 1257089 | F9: =IF(D9-E9<0,"△","") | G9: =D9-E9 -> 0 | J9: 115퇴직적립금 | K9: =세출!E14 -> 17125.98 | L9: =세출!E14 -> 17125.98 | M9: =IF(K9-L9<0,"△","") | N9: -
B10: 31 | C10: 보조금수입 | D10: =세입!D19 -> 1257089 | E10: =SUM(E11:E12) -> 1257089 | F10: =IF(D10-E10<0,"△","") | G10: =D10-E10 -> 0 | J10: 116사회보험 | K10: =세출!E15 -> 18334.32 | L10: =세출!E15 -> 18334.32 | M10: =IF(K10-L10<0,"△","") | N10: =K10-L10 -> 0
C11: 311국고보조금 | D11: =세입!D20 -> 478657 | E11: =세입!E20 -> 478656.5 | F11: =IF(D11-E11<0,"△","") | J11: 117기타후생경비 | K11: =세출!E21 -> 80 | L11: =세출!E21 -> 80 | M11: =IF(K11-L11<0,"△","") | N11: =K11-L11 -> 0
C12: 312시군구보조금 | D12: =세입!D37 -> 778433 | E12: =세입!E37 -> 778432.5 | F12: =IF(D12-E12<0,"△","") | G12: 0 | I12: 12업무추진비 | K12: =SUM(K13:K14) -> 840 | L12: =SUM(L13:L14) -> 744.73 | M12: =IF(K12-L12<0,"△","") | N12: =K12-L12 -> 95.27
A13: 04후원금수입 | D13: =D14 -> 900 | E13: =E14 -> 950 | F13: =IF(D13-E13<0,"△","") -> △ | G13: =D13-E13 -> -50 | J13: 121기관운영비 | K13: =세출!D23 -> 440 | L13: =세출!E23 -> 396.73 | M13: =IF(K13-L13<0,"△","") | N13: =K13-L13 -> 43.27
B14: 41후원금수입 | D14: =D15 -> 900 | E14: =E15 -> 950 | F14: =IF(D14-E14<0,"△","") -> △ | G14: =D14-E14 -> -50 | J14: 123직원회의비 | K14: =세출!D24 -> 400 | L14: =세출!E24 -> 348 | M14: =IF(K14-L14<0,"△","") | N14: =K14-L14 -> 52
C15: 411비지정후원금 | D15: =세입!D60 -> 900 | E15: =세입!E60 -> 950 | F15: =IF(D15-E15<0,"△","") -> △ | G15: =D15-E15 -> -50 | I15: 13운영비 | K15: =SUM(K16:K21) -> 22759 | L15: =SUM(L16:L21) -> 21884.535 | M15: =IF(K15-L15<0,"△","") | N15: =K15-L15 -> 874.465
A16: 06전입금 | D16: =D17 -> 5000 | E16: =E17 -> 5000 | F16: =IF(D16-E16<0,"△","") | G16: =D16-E16 -> 0 | J16: 131여비 | K16: =세출!D26 -> 840 | L16: =세출!E26 -> 572.2 | M16: =IF(K16-L16<0,"△","") | N16: =K16-L16 -> 267.8
B17: 61전입금 | D17: =D18 -> 5000 | E17: =E18 -> 5000 | F17: =IF(D17-E17<0,"△","") | G17: =D17-E17 -> 0 | J17: 132수용비및수수료 | K17: =세출!D28 -> 12333 | L17: =세출!E28 -> 11964.705 | M17: =IF(K17-L17<0,"△","") | N17: =K17-L17 -> 368.295
C18: 611전입금 | D18: =세입!D63 -> 5000 | E18: =세입!E63 -> 5000 | F18: =IF(D18-E18<0,"△","") | G18: =D18-E18 -> 0 | J18: 133공공요금 | K18: =세출!D35 -> 3662 | L18: =세출!E35 -> 3515.92 | M18: =IF(K18-L18<0,"△","") | N18: =K18-L18 -> 146.08
A19: 08잡수입 | D19: =D20 -> 7120 | E19: =E20 -> 7128.083 | F19: =IF(D19-E19<0,"△","") -> △ | G19: =D19-E19 -> -8.083 | J19: 134제세공과금 | K19: =세출!D40 -> 4832 | L19: =세출!E40 -> 4779.71 | M19: =IF(K19-L19<0,"△","") | N19: =K19-L19 -> 52.29
B20: 81잡수입 | D20: =D21 -> 7120 | E20: =E21 -> 7128.083 | F20: =IF(D20-E20<0,"△","") -> △ | G20: =D20-E20 -> -8.083 | J20: 135차량비 | K20: =세출!D45 -> 832 | L20: =세출!E45 -> 832 | M20: =IF(K20-L20<0,"△","") | N20: =K20-L20 -> 0
C21: 812잡수입 | D21: =세입!D66 -> 7120 | E21: =세입!E66 -> 7128.083 | F21: =IF(D21-E21<0,"△","") -> △ | G21: =D21-E21 -> -8.083 | J21: 136연료비 | K21: =세출!D47 -> 260 | L21: =세출!E47 -> 220 | M21: =IF(K21-L21<0,"△","") | N21: =K21-L21 -> 40
A22: 07이월금 | D22: =D23 -> 75071 | E22: =E23 -> 75070.798 | G22: - | H22: 02재산조성비 | K22: =K23 -> 925.615 | L22: =세출!E48 -> 925.615 | M22: =IF(K22-L22<0,"△","") | N22: =K22-L22 -> 0
B23: 71이월글 | D23: =D24 -> 75071 | E23: =E24 -> 75070.798 | G23: - | I23: 21시설비 | K23: =K24 -> 925.615 | L23: =세출!E49 -> 925.615 | M23: =IF(K23-L23<0,"△","") | N23: =K23-L23 -> 0
C24: 711이월금 | D24: =세입!D70 -> 75071 | E24: =세입!E70 -> 75070.798 | G24: - | J24: 211자산취득비 | K24: =세출!E50 -> 925.615 | L24: =세출!E50 -> 925.615 | M24: =IF(K24-L24<0,"△","") | N24: =K24-L24 -> 0
H25: 03사업비 | K25: =K26 -> 2250820 | L25: =세출!E52 -> 2175227.6 | M25: =IF(K25-L25<0,"△","") | N25: =K25-L25 -> 75592.379
I26: 31사업비 | K26: =SUM(K27:K39) -> 2250820 | L26: =SUM(L27:L39) -> 2175227.6 | M26: =IF(K26-L26<0,"△","") | N26: =K26-L26 -> 75592.379
J27: 311한땀한땀사업 | K27: =세출!D54 -> 97724.332 | L27: =세출!E54 -> 95364.257 | M27: =IF(K27-L27<0,"△","") | N27: =K27-L27 -> 2360.075
F28: =IF(E28-D28<0,"△","") | J28: 312청춘6099사업 | K28: =세출!D57 -> 414999.97 | L28: =세출!E57 -> 395581.46 | M28: =IF(K28-L28<0,"△","") | N28: =K28-L28 -> 19418.512
J29: 313우렁할매사업 | K29: =세출!D60 -> 105312.51 | L29: =세출!E60 -> 105684.67 | M29: =IF(K29-L29<0,"△","") -> △ | N29: =K29-L29 -> -372.159
J30: 314다이나믹택배사업 | K30: =세출!D63 -> 448000.46 | L30: =세출!E63 -> 437247.53 | M30: =IF(K30-L30<0,"△","") | N30: =K30-L30 -> 10752.929
J31: 315이바구자전거 | K31: =세출!D66 -> 106762.14 | L31: =세출!E66 -> 106149.05 | M31: =IF(K31-L31<0,"△","") | N31: =K31-L31 -> 613.091
J32: 316화통한할매도시락 | K32: =세출!D69 -> 187948.09 | L32: =세출!E69 -> 183514.38 | M32: =IF(K32-L32<0,"△","") | N32: =K32-L32 -> 4433.706
J33: 317어린이대공원사업 | K33: =세출!D72 -> 65840.106 | L33: =세출!E72 -> 62538 | M33: =IF(K33-L33<0,"△","") | N33: =K33-L33 -> 3302.106
J34: 318화통한밥상사업 | K34: =세출!D75 -> 169821.17 | L34: =세출!E75 -> 167526.62 | M34: =IF(K34-L34<0,"△","") | N34: =K34-L34 -> 2294.544
J35: 319하하호호사업 | K35: =세출!D78 -> 91842.253 | L35: =세출!E78 -> 89279.25 | M35: =IF(K35-L35<0,"△","") | N35: =K35-L35 -> 2563.003
J36: 320지역형사업 | K36: =세출!D81 -> 455340 | L36: =세출!E81 -> 435387 | M36: =IF(K36-L36<0,"△","") | N36: =K36-L36 -> 19953
J37: 321전담인력 | K37: =세출!D87 -> 36531 | L37: =세출!E87 -> 31795.5 | M37: =IF(K37-L37<0,"△","") | N37: =K37-L37 -> 4735.5
J38: 322영재교육카드사업 | K38: =세출!D89 -> 46300 | L38: =세출!E89 -> 42570.028 | N38: =K38-L38 -> 3729.972
J39: 323기타사업 | K39: =세출!D92 -> 24398 | L39: =세출!E92 -> 22589.9 | M39: =IF(K39-L39<0,"△","") | N39: =K39-L39 -> 1808.1
F40: =IF(E40-D40<0,"△","") | H40: 06잡지출 | K40: =K41 -> 18 | L40: =세출!E98 -> 0 | M40: =IF(K40-L40<0,"△","") | N40: =K40-L40 -> 18
F41: =IF(E41-D41<0,"△","") | I41: 61잡지출 | K41: =K42 -> 18 | L41: =세출!E99 -> 0 | M41: =IF(K41-L41<0,"△","") | N41: =K41-L41 -> 18
F42: =IF(E42-D42<0,"△","") | J42: 611잡지출 | K42: =세출!D100 -> 18 | L42: =세출!E100 -> 0 | M42: =IF(K42-L42<0,"△","") | N42: =K42-L42 -> 18
H43: 07예비비 및 기타 | K43: =K44 -> 2201 | L43: =L44 -> 2201.092 | N43: 0
I44: 71반환금 | K44: =K45 -> 2201 | L44: =L45 -> 2201.092 | N44: 0
J45: 711반환금 | K45: =세출!D103 -> 2201 | L45: =세출!E103 -> 2201.092 | N45: 0
H46: 08이월금 | K46: 0 | L46: =L47 -> 62636.719 | M46: =IF(K46-L46<0,"△","") -> △ | N46: =K46-L46 -> -62636.719
I47: 81이월금 | K47: 0 | L47: =L48 -> 62636.719 | M47: =IF(K47-L47<0,"△","") -> △ | N47: =K47-L47 -> -62636.719
J48: 811이월금 | K48: 0 | L48: =세출!E107 -> 62636.719 | M48: =IF(K48-L48<0,"△","") -> △ | N48: =K48-L48 -> -62636.719

Sheet 세입
A1: ○세입 | W1: (단위:천원)
A2: 과 목 | D2: 예산 | E2: 결산 | F2: 증감 | G2: 추가액 | H2: 11월30일현재 | I2: 11월까지 결산내역 | L2: 산출기초(원)
A3: 관 | B3: 항 | C3: 목 | H3: 결산액
A4: 세입총계 | D4: =D5+D18+D61+D64+D68+D58 -> 2518616 | E4: =SUM(E5,E18,E61,E64,E68,E58) -> 2504672.6 | F4: =D4-E4 -> 13943.364 | G4: =E4-#REF! -> #REF! | H4: =H5+#REF!+#REF!+H64+H69 -> #REF!
A5: 01사업수입 | D5: =D6 -> 1173436 | E5: =E6 -> 1159434.8 | F5: =(D5-E5) -> 14001.245 | G5: =E5-#REF! -> #REF! | H5: =H6 -> #REF!
B6: 11사업수입 | D6: =D7 -> 1173436 | E6: =E7 -> 1159434.8 | F6: =(D6-E6) -> 14001.245 | G6: =E6-#REF! -> #REF! | H6: =H18 -> #REF!
C7: 111사업수입 | D7: 1173436 | E7: =SUM(W8:W17)/1000 -> 1159434.8 | F7: =(D7-E7) -> 14001.245 | L7: ● 사업비
L8: . | M8: 한땀한땀사업 | S8: =W8/U8/1000 -> 3598.3132 | T8: * | U8: =[1]세입!$Q$8 -> 12 | V8: = | W8: 43179758
L9: . | M9: 청춘6099사업 | S9: =W9/U9/1000 -> 27443.379 | T9: * | U9: =[1]세입!$Q$9 -> 12 | V9: = | W9: 329320544
L10: . | M10: 우렁할매사업 | S10: =W10/U10/1000 -> 5353.8333 | T10: * | U10: =[1]세입!$Q$10 -> 12 | V10: = | W10: 64246000
L11: . | M11: 다이나믹6070택배사업 | S11: =W11/U11/1000 -> 25803.768 | T11: * | U11: 12 | V11: = | W11: 309645218
L12: . | M12: 이바구자전거사업 | S12: =W12/U12/1000 -> 3854.8703 | T12: * | U12: 12 | V12: = | W12: 46258444
L13: . | M13: 어린이대공원 녹지관리사업 | S13: =W13/U13/1000 -> 5405.8275 | T13: * | U13: 12 | V13: = | W13: 64869930
L14: . | M14: 화통한할매도시락사업 | S14: =W14/U14/1000 -> 12809.507 | T14: * | U14: 12 | V14: = | W14: 153714089
L15: . | M15: 화통한할매밥상사업 | S15: =W15/U15/1000 -> 9478.1916 | T15: * | U15: 12 | V15: = | W15: 113738299
L16: . | M16: 하하호호사업 | S16: =W16/U16/1000 -> 2405.5998 | T16: * | U16: 12 | V16: = | W16: 28867198
L17: . | M17: 영재교육카드제작사업 | S17: =W17/U17/1000 -> 699.40937 | T17: * | U17: 8 | V17: = | W17: 5595275
A18: 03보조금 수입 | D18: =D19 -> 1257089 | E18: =E19 -> 1257089 | F18: =ABS(D18-E18) -> 0 | G18: =E9-#REF! -> #REF! | H18: =#REF! -> #REF! | I18: ● 실비입소비용
B19: 31보조금수입 | D19: 1257089 | E19: =SUM(E20,E36,E37) -> 1257089 | F19: =ABS(D19-E19) -> 0
C20: 311국고보조금 | D20: 478657 | E20: =SUM(W21:W36)/1000 -> 478656.5 | F20: 0 | L20: ● | M20: 일자리 보조금
L21: . | M21: 한땀한땀사업 | Q21: 2000 | R21: * | S21: 26 | T21: * | U21: 0.5 | V21: = | W21: =Q21*S21*U21*1000 -> 26000000
L22: . | M22: 청춘6099사업 | Q22: 2000 | R22: * | S22: 20 | T22: * | U22: 0.5 | V22: = | W22: =Q22*S22*U22*1000 -> 20000000
L23: . | M23: 우렁할매사업 | Q23: 2000 | R23: * | S23: 18 | T23: * | U23: 0.5 | V23: = | W23: =Q23*S23*U23*1000 -> 18000000
L24: . | M24: 다이나믹6070택배 | Q24: 2000 | R24: * | S24: 60 | T24: * | U24: 0.5 | V24: = | W24: =Q24*S24*U24*1000 -> 60000000
L25: . | M25: 이바구자전거 | Q25: 2000 | R25: * | S25: 30 | T25: * | U25: 0.5 | V25: = | W25: =Q25*S25*U25*1000 -> 30000000
L26: . | M26: 화통한할매도시락 | Q26: 2000 | R26: * | S26: 15 | T26: * | U26: 0.5 | V26: = | W26: =Q26*S26*U26*1000 -> 15000000
L27: . | M27: 화통한할매밥상 | Q27: 2000 | R27: * | S27: 25 | T27: * | U27: 0.5 | V27: = | W27: =Q27*S27*U27*1000 -> 25000000
L28: . | M28: 하하호호 | Q28: 2000 | R28: * | S28: 31 | T28: * | U28: 0.5 | V28: = | W28: =Q28*S28*U28*1000 -> 31000000
L29: . | M29: 동구문화지킴이인건비 | O29: 220 | P29: * | Q29: 9 | R29: * | S29: 162 | T29: * | U29: 0.5 | V29: = | W29: =O29*Q29*S29*U29*1000 -> 160380000
M30: 동구문화지킴이인건비 | O30: 50 | P30: * | Q30: 5 | R30: * | S30: 162 | T30: * | U30: 0.5 | V30: = | W30: =O30*Q30*S30*U30*1000 -> 20250000
L31: . | M31: 동구문화지킴이사업비 | Q31: 140 | R31: * | S31: 162 | T31: * | U31: 0.5 | V31: = | W31: =Q31*S31*U31*1000 -> 11340000
M32: 너나우리지킴이인건비 | O32: 270 | P32: * | Q32: 5 | R32: * | S32: 50 | T32: * | U32: 0.5 | V32: = | W32: =Q32*O32*S32*U32*1000 -> 33750000
L33: . | M33: 너나우리지킴이사업비 | Q33: 78 | R33: * | S33: 50 | T33: * | U33: 0.5 | V33: = | W33: =Q33*S33*U33*1000 -> 1950000
L34: . | M34: 전담인력인건비 | O34: 1353 | P34: * | Q34: 11 | R34: * | S34: 2 | T34: * | U34: 0.5 | V34: = | W34: =O34*Q34*S34*U34*1000 -> 14883000
L35: . | M35: 전담인력인건비 | O35: 1353 | P35: * | Q35: 5 | R35: * | S35: 1 | T35: * | U35: 0.5 | V35: = | W35: =O35*Q35*S35*U35*1000 -> 3382500
L36: . | M36: 인센티브 | Q36: 15442 | R36: * | S36: 1 | T36: * | U36: 0.5 | V36: = | W36: =Q36*S36*U36*1000 -> 7721000
C37: 312시군구보조금 | D37: 778433 | E37: =SUM(W38:W39,W41:W57)/1000 -> 778432.5 | F37: 0 | G37: =#REF!-#REF! -> #REF! | I37: . | J37: 건강보험 | L37: ● | M37: 운영비지원
G38: =#REF!-#REF! -> #REF! | I38: . | J38: 고용보험 | L38: . | M38: 인건비보조금 | S38: =W38/U38/1000 -> 59063.075 | T38: * | U38: 4 | V38: = | W38: 236252300
G39: =E38-#REF! -> #REF! | I39: . | J39: 특별위로금 | L39: . | M39: 운영비보조금 | S39: =W39/U39/1000 -> 5880.925 | T39: * | U39: 4 | V39: = | W39: 23523700
L40: ● | M40: 일자리 시군구보조금
L41: . | M41: 한땀한땀사업 | Q41: 2000 | R41: * | S41: 26 | T41: * | U41: 0.5 | V41: = | W41: =Q41*S41*U41*1000 -> 26000000
L42: . | M42: 청춘6099사업 | Q42: 2000 | R42: * | S42: 20 | T42: * | U42: 0.5 | V42: = | W42: =Q42*S42*U42*1000 -> 20000000
L43: . | M43: 우렁할매사업 | Q43: 2000 | R43: * | S43: 18 | T43: * | U43: 0.5 | V43: = | W43: =Q43*S43*U43*1000 -> 18000000
L44: . | M44: 다이나믹6070택배 | Q44: 2000 | R44: * | S44: 60 | T44: * | U44: 0.5 | V44: = | W44: =Q44*S44*U44*1000 -> 60000000
L45: . | M45: 이바구자전거 | Q45: 2000 | R45: * | S45: 30 | T45: * | U45: 0.5 | V45: = | W45: =Q45*S45*U45*1000 -> 30000000
L46: . | M46: 화통한할매도시락 | Q46: 2000 | R46: * | S46: 15 | T46: * | U46: 0.5 | V46: = | W46: =Q46*S46*U46*1000 -> 15000000
L47: . | M47: 화통한할매밥상 | Q47: 2000 | R47: * | S47: 25 | T47: * | U47: 0.5 | V47: = | W47: =Q47*S47*U47*1000 -> 25000000
L48: . | M48: 하하호호 | Q48: 2000 | R48: * | S48: 31 | T48: * | U48: 0.5 | V48: = | W48: =Q48*S48*U48*1000 -> 31000000
L49: . | M49: 동구문화지킴이인건비 | O49: 220 | P49: * | Q49: 9 | R49: * | S49: 162 | T49: * | U49: 0.5 | V49: = | W49: =O49*Q49*S49*U49*1000 -> 160380000
M50: 동구문화지킴이인건비 | O50: 50 | P50: * | Q50: 5 | R50: * | S50: 162 | T50: * | U50: 0.5 | V50: = | W50: =O50*Q50*S50*U50*1000 -> 20250000
L51: . | M51: 동구문화지킴이사업비 | Q51: 140 | R51: * | S51: 162 | T51: * | U51: 0.5 | V51: = | W51: =Q51*S51*U51*1000 -> 11340000
M52: 너나우리지킴이인건비 | O52: 270 | P52: * | Q52: 5 | R52: * | S52: 50 | T52: * | U52: 0.5 | V52: = | W52: =Q52*O52*S52*U52*1000 -> 33750000
L53: . | M53: 너나우리지킴이사업비 | Q53: 78 | R53: * | S53: 50 | T53: * | U53: 0.5 | V53: = | W53: =Q53*S53*U53*1000 -> 1950000
L54: . | M54: 전담인력인건비 | O54: 1353 | P54: * | Q54: 11 | R54: * | S54: 2 | T54: * | U54: 0.5 | V54: = | W54: =O54*Q54*S54*U54*1000 -> 14883000
L55: . | M55: 전담인력인건비 | O55: 1353 | P55: * | Q55: 5 | R55: * | S55: 1 | T55: * | U55: 0.5 | V55: = | W55: =O55*Q55*S55*U55*1000 -> 3382500
M56: 부산특화사업 | S56: 40000 | T56: * | U56: =[1]세입!$Q$30 -> 1 | V56: = | W56: =S56*U56*1000 -> 40000000
L57: . | M57: 인센티브 | Q57: 15442 | R57: * | S57: 1 | T57: * | U57: 0.5 | V57: = | W57: =Q57*S57*U57*1000 -> 7721000
A58: 04후원금수입 | D58: =D59 -> 900 | E58: =E59 -> 950 | F58: =ABS(D58-E58) -> 50 | L58: ● | M58: 후원금수입
B59: 41후원금수입 | D59: =D60 -> 900 | E59: =E60 -> 950 | F59: =ABS(D59-E59) -> 50
C60: 412비지정후원금 | D60: 900 | E60: =W60/1000 -> 950 | F60: =ABS(D60-E60) -> 50 | L60: . | M60: 후원금수입 | S60: 950 | T60: * | U60: =[1]세입!$Q$30 -> 1 | V60: = | W60: =S60*U60*1000 -> 950000
A61: 06전입금 | D61: =D62 -> 5000 | E61: =E62 -> 5000 | F61: =ABS(D61-E61) -> 0 | L61: ● | M61: 법인전입금
B62: 61전입금 | D62: =D63 -> 5000 | E62: =E63 -> 5000 | F62: =ABS(D62-E62) -> 0
C63: 611전입금 | D63: 5000 | E63: =W63/1000 -> 5000 | F63: =ABS(D63-E63) -> 0 | L63: . | M63: 법인전입금 | S63: 5000 | T63: * | U63: =[1]세입!$Q$30 -> 1 | V63: = | W63: =S63*U63*1000 -> 5000000
A64: 08잡수입 | D64: =D65 -> 7120 | E64: =E65 -> 7128.083 | F64: =ABS(D64-E64) -> 8.083 | G64: =#REF!-#REF! -> #REF! | H64: =H65 -> #REF! | L64: ● | M64: 기타잡수입
B65: 81잡수입 | D65: =D66 -> 7120 | E65: =E66 -> 7128.083 | F65: =ABS(D65-E65) -> 8.083 | G65: =#REF!-#REF! -> #REF! | H65: =H68 -> #REF!
C66: 812잡수입 | D66: 7120 | E66: =(W66+W67)/1000 -> 7128.083 | F66: =ABS(D66-E66) -> 8.083 | L66: . | M66: 고령자운전성향조사연구비 | S66: 7000 | T66: * | U66: =[1]세입!$Q$33 -> 1 | V66: = | W66: =S66*U66*1000 -> 7000000
L67: . | M67: 기타잡수입 | S67: =W67/U66/1000 -> 128.083 | T67: * | U67: =[1]세입!$Q$33 -> 1 | V67: = | W67: 128083
A68: 07이월금 | D68: =D69 -> 75071 | E68: =E69 -> 75070.798 | G68: =#REF!-#REF! -> #REF! | H68: =#REF! -> #REF! | I68: ● 전년도이월금
B69: 71이월금 | D69: =D70 -> 75071 | E69: =E70 -> 75070.798 | G69: =E64-#REF! -> #REF! | H69: =H70 -> #REF!
C70: 711이월금 | D70: 75071 | E70: =SUM(W71:W74)/1000 -> 75070.798 | G70: =E65-#REF! -> #REF! | H70: =SUM(H71:H71) -> #REF! | L70: ● 이월금
G71: =E68-#REF! -> #REF! | H71: =#REF! -> #REF! | I71: ● 예금이자 | L71: . | M71: 이자및전담인건비 | S71: =W71/U71/1000 -> 2198.692 | T71: * | U71: =[1]세입!$Q$36 -> 1 | V71: = | W71: 2198692
G72: =E71-#REF! -> #REF! | J72: - | K72: 직원 및 방문자식대 | L72: . | M72: 사업수익이월금 | S72: 71392 | T72: * | U72: =[1]세입!$Q$36 -> 1 | V72: = | W72: 71391692
L73: . | M73: 전입금이월금 | S73: 964 | T73: * | U73: 1 | V73: = | W73: 964347
G74: =#REF!-#REF! -> #REF! | J74: - | K74: 실습지도비 | L74: . | M74: 후원금이월금 | S74: 516 | T74: * | U74: =[1]세입!$Q$36 -> 1 | V74: = | W74: 516067
J75: - | K75: 하이닉스글로벌인재개발원 교육비
J76: - | K76: 직원 교통사고입원으로 인한 보상보험금
J77: - | K77: 재직자교육 환급금(노동부)
J78: - | K78: SK텔레콤 옥상송신탑 설치임대료 및 전기료
J79: - | K79: 헤어밴드작업
G80: =E77-#REF! -> #REF! | J80: - | K80: 잡수입

Sheet 세출
A1: ○ 세출 | U1: (단위:천원)
A2: 과 목 | D2: 예산 | E2: 결산 | F2: 추가액 | H2: 11월30일현재 | I2: 11/30까지 결산내역 | M2: 산출기초(원) | V2: 11월30일현재 | W2: 11/30까지 결산내역
A3: 관 | B3: 항 | C3: 목 | H3: 결산액 | V3: 결산액
A4: 세출총계 | D4: =D5+D48+D52+D98+D108+D101 -> 2518616 | E4: =SUM(E5,E48,E52,E98,E101,E105) -> 2504672.6 | F4: =E4-V4 -> #REF! | G4: =(D4-E4) -> 13943.388 | H4: =H5+#REF!+#REF!+H122+H125 -> #REF! | V4: =V5+#REF!+#REF!+V125+V128 -> #REF!
A5: 01사무비 | D5: =D6+D22+D25 -> 264651 | E5: =SUM(E6,E22,E25) -> 263681.57 | F5: =E5-V5 -> #REF! | G5: =(D5-E5) -> 969.435 | H5: =H6+H22+H26 -> #REF! | V5: =V6+V22+V26 -> #REF!
B6: 11인건비 | D6: =D7+D14+D15+D21 -> 241052 | E6: =SUM(E7,E14,E15,E21) -> 241052.3 | F6: =E6-V6 -> #REF! | G6: 0 | H6: =H7+#REF!++#REF!+H15+#REF!+#REF!+H21 -> #REF! | V6: =V7+#REF!++#REF!+V15+#REF!+#REF!+V21 -> #REF!
C7: 111급여 | D7: 205512 | E7: =SUM(U8:U13)/1000 -> 205512 | F7: =E7-V7 -> -355076238 | G7: =(D7-E7) -> 0 | H7: =L7 -> 355281750 | I7: ○ 급여 | L7: =L8 -> 355281750 | M7: ○ 급여 | V7: =Z7 -> 355281750 | W7: ○ 급여 | Z7: =Z8 -> 355281750
F8: =E8-V8 -> 0 | I8: . | J8: 본봉 | L8: 355281750 | M8: . | N8: 관장 | O8: =U8/Q8/S8/1000 -> 5313 | P8: * | Q8: 12 | R8: * | S8: 1 | T8: = | U8: 63756000 | W8: . | X8: 본봉 | Z8: 355281750
F9: =E9-V9 -> 0 | M9: . | N9: 과장 | O9: =U9/Q9/S9/1000 -> 2851 | P9: * | Q9: 12 | R9: * | S9: 1 | T9: = | U9: 34212000
F10: =E10-V10 -> 0 | M10: . | N10: 대리 | O10: =U10/Q10/S10/1000 -> 2384 | P10: * | Q10: 12 | R10: * | S10: 1 | T10: = | U10: 28608000
F11: =E11-V11 -> 0 | M11: . | N11: 대리 | O11: =U11/Q11/S11/1000 -> 2384 | P11: * | Q11: 12 | R11: * | S11: 1 | T11: = | U11: 28608000
M12: . | N12: 직원 | O12: =U12/Q12/S12/1000 -> 2157 | P12: * | Q12: 12 | R12: * | S12: 1 | T12: = | U12: 25884000
F13: =E13-V13 -> 0 | M13: . | N13: 직원 | O13: =U13/Q13/S13/1000 -> 2037 | P13: * | Q13: 12 | R13: * | S13: 1 | T13: = | U13: 24444000
C14: 115퇴직적립금 | D14: 17126 | E14: =SUM(U14)/1000 -> 17125.98 | G14: 0 | M14: ○ | N14: 퇴직적립금 | Q14: =U14/S14/1000 -> 1427.165 | R14: ÷ | S14: 12 | T14: = | U14: 17125980
C15: 116사회보험 | D15: 18334 | E15: =SUM(U16:U20)/1000 -> 18334.32 | F15: =E15-V15 -> #REF! | G15: 0 | H15: =L15 -> #REF! | I15: ○ 제수당 | L15: =#REF!+L16+#REF!+#REF!+L18+L19+L20+#REF!+#REF!+#REF! -> #REF! | V15: =Z15 -> #REF! | W15: ○ 제수당 | Z15: =#REF!+Z16+#REF!+#REF!+Z18+Z19+Z20+#REF!+#REF!+#REF! -> #REF!
F16: =E16-V16 -> 0 | I16: . | J16: 명절휴가비 | L16: 30616500 | M16: . | N16: 국민연금 | Q16: =U16/S16/1000 -> 664.79 | R16: * | S16: 12 | T16: = | U16: 7977480 | W16: . | X16: 명절휴가비 | Z16: 30616500
F17: =E17-V17 -> 0 | M17: . | N17: 건강보험료 | Q17: 407 | R17: * | S17: 12 | T17: = | U17: 6288180
F18: =E18-V18 -> 0 | I18: . | J18: 가족수당 | L18: 7488330 | M18: . | N18: 장기요양보험료 | Q18: =U18/S18/1000 -> 34.29 | R18: * | S18: 12 | T18: = | U18: 411480 | W18: . | X18: 가족수당 | Z18: 7488330
F19: =E19-V19 -> 0 | I19: . | J19: 직책수당 | L19: 6540000 | M19: . | N19: 고용보험 | Q19: =U19/S19/1000 -> 128.785 | R19: * | S19: 12 | T19: = | U19: 1545420 | W19: . | X19: 직책수당 | Z19: 6540000
F20: =E20-V20 -> 0 | I20: . | J20: 법인수당 | L20: 9607330 | M20: . | N20: 산재보험 | Q20: =U20/S20/1000 -> 175.98 | R20: * | S20: 12 | T20: = | U20: 2111760 | W20: . | X20: 법인수당 | Z20: 9607330
C21: 117기타후생경비 | D21: 80 | E21: =SUM(U21)/1000 -> 80 | F21: =E21-V21 -> #REF! | G21: =(D21-E21) -> 0 | H21: =L21 -> #REF! | I21: ○ 기타후생경비 | L21: =#REF!+#REF!+#REF!+#REF! -> #REF! | M21: ○ 후생경비 | Q21: =U21/S21/1000 -> 6.6666667 | R21: * | S21: 12 | T21: = | U21: 80000 | V21: =Z21 -> #REF! | W21: ○ 기타후생경비 | Z21: =#REF!+#REF!+#REF!+#REF! -> #REF!
B22: 12업무추진비 | D22: =SUM(D23:D24) -> 840 | E22: =SUM(E23:E24) -> 744.73 | F22: =E22-V22 -> #REF! | G22: =(D22-E22) -> 95.27 | H22: =H23+H24+H25 -> #REF! | V22: =V23+V24+V25 -> #REF!
C23: 121기관운영비 | D23: 440 | E23: =U23/1000 -> 396.73 | F23: =E23-V23 -> #REF! | G23: =(D23-E23) -> 43.27 | H23: =L23 -> #REF! | I23: ○ 기관운영비 | L23: =SUM(#REF!) -> #REF! | M23: ○ 기관운영비 | Q23: 52 | R23: * | S23: 12 | T23: = | U23: 396730 | V23: =Z23 -> #REF! | W23: ○ 기관운영비 | Z23: =SUM(#REF!) -> #REF!
C24: 123직원회의비 | D24: 400 | E24: =U24/1000 -> 348 | F24: =E24-V25 -> 348 | G24: =(D24-E24) -> 52 | H24: =L24 -> 1270440 | I24: ○ 직책보조비 | L24: 1270440 | M24: ○ 회의비 | Q24: =U24/S24/1000 -> 87 | R24: * | S24: 4 | T24: = | U24: 348000 | V24: =Z24 -> 1270440 | W24: ○ 직책보조비 | Z24: 1270440
B25: 13운영비 | D25: =D26+D28+D35+D40+D45+D47 -> 22759 | E25: =SUM(E26,E28,E35,E40,E45,E47) -> 21884.535 | F25: =E25-V26 -> #REF! | G25: =(D25-E25) -> 874.465 | H25: =L25 -> 0 | I25: ○ 회의비 | L25: 0 | V25: =Z25 -> 0 | W25: ○ 회의비 | Z25: 0
C26: 131여비 | D26: 840 | E26: =SUM(U27:U27)/1000 -> 572.2 | F26: =E26-V27 -> -5919027.8 | G26: =(D26-E26) -> 267.8 | H26: =H27+#REF!+#REF!+#REF!+#REF!+#REF! -> #REF! | M26: ○ 여비 | V26: =V27+#REF!+#REF!+#REF!+#REF!+#REF! -> #REF!
F27: =E27-V28 -> 0 | H27: =L27 -> 5919600 | I27: ○ 여비 | L27: =L28+L29 -> 5919600 | M27: . | N27: 교육 및 출장비 | Q27: =U27/S27/1000 -> 114.44 | R27: * | S27: 5 | T27: = | U27: 572200 | V27: =Z27 -> 5919600 | W27: ○ 여비 | Z27: =Z28+Z29 -> 5919600
C28: 132수용비 및 수수료 | D28: 12333 | E28: =SUM(U29:U34)/1000 -> 11964.705 | F28: =E28-V29 -> 11964.705 | G28: =(D28-E28) -> 368.295 | I28: . | J28: 교육 및 출장비 | L28: 5019600 | M28: ○ 수용비 및 수수료 | W28: . | X28: 교육 및 출장비 | Z28: 5019600
F29: =E29-#REF! -> #REF! | I29: . | J29: 해외연수지원 | L29: 900000 | M29: . | N29: 사무실임대료(주차비포함) | Q29: =U29/S29/1000 -> 800 | R29: * | S29: 12 | T29: = | U29: 9600000 | W29: . | X29: 해외연수지원 | Z29: 900000
M30: . | N30: 사무용품비 | Q30: =U30/S30/1000 -> 1.7920833 | R30: * | S30: 12 | T30: = | U30: 21505
F31: =E31-V32 -> 0 | I31: . | J31: 사무용품비 | L31: 2206140 | M31: . | N31: 복사기렌털료 | Q31: =U31/S31/1000 -> 110 | R31: * | S31: 12 | T31: = | U31: 1320000 | W31: . | X31: 사무용품비 | Z31: 2206140
I32: . | J32: 인쇄비 | L32: =SUM(#REF!) -> #REF! | M32: . | N32: 정수기렌털료 | Q32: =U32/S32/1000 -> 19.9 | R32: * | S32: 12 | T32: = | U32: 238800 | W32: . | X32: 인쇄비 | Z32: =SUM(#REF!) -> #REF!
M33: . | N33: 도서구입비 | Q33: =U33/S33/1000 -> 22.335 | R33: * | S33: 12 | T33: = | U33: 268020 | V33: 234000
J34: - | K34: 식당물품 | L34: 3210500 | M34: . | N34: 기타수수료 | Q34: =U34/S34/1000 -> 64.5475 | R34: * | S34: 8 | T34: = | U34: 516380 | X34: - | Y34: 식당물품 | Z34: 3210500
C35: 133공공요금 | D35: 3662 | E35: =SUM(U36:U39)/1000 -> 3515.92 | F35: =E35-V36 -> 3515.92 | G35: =(D35-E35) -> 146.08 | J35: - | K35: 면도기수리 | L35: 46700 | M35: ○ 공공요금 | X35: - | Y35: 면도기수리 | Z35: 46700
J36: - | K36: 서랍수리 | L36: 99000 | M36: . | N36: 우편료 | Q36: =U36/S36/1000 -> 4 | R36: * | S36: 1 | T36: = | U36: 4000 | X36: - | Y36: 서랍수리 | Z36: 99000
J37: - | K37: 2층 자동문수리 | L37: 43000 | M37: . | N37: 통신료(인터넷전화) | Q37: =U37/S37/1000 -> 168.3775 | R37: * | S37: 12 | T37: = | U37: 2020530 | X37: - | Y37: 2층 자동문수리 | Z37: 43000
J38: - | K38: 식당 손세정대 수리 | L38: 44000 | M38: . | N38: 전화료(FAX) | Q38: =U38/S38/1000 -> 43.398333 | R38: * | S38: 12 | T38: = | U38: 520780 | X38: - | Y38: 식당 손세정대 수리 | Z38: 44000
J39: - | K39: 세면대수리 | L39: 15000 | M39: . | N39: 전기료 | Q39: =U39/S39/1000 -> 80.884167 | R39: * | S39: 12 | T39: = | U39: 970610 | X39: - | Y39: 세면대수리 | Z39: 15000
C40: 134제세공과금 | D40: 4832 | E40: =SUM(U41:U44)/1000 -> 4779.71 | F40: =E40-V43 -> 4779.71 | G40: =(D40-E40) -> 52.29 | J40: - | K40: 칼도마소독기 수리 | L40: 20000 | M40: ○ 제세공과금 | X40: - | Y40: 칼도마소독기 수리 | Z40: 20000
M41: . | N41: 중앙협회비 | Q41: =U41/S41/1000 -> 170 | R41: * | S41: 12 | T41: = | U41: 2040000
M42: . | N42: 부산협회비 | Q42: =U42/S42/1000 -> 100 | R42: * | S42: 12 | T42: = | U42: 1200000
J43: - | K43: 정수기수리 | L43: 12000 | M43: . | N43: 기타제세 | Q43: =U43/S43/1000 -> 71.635 | R43: * | S43: 4 | T43: = | U43: 286540 | X43: - | Y43: 정수기수리 | Z43: 12000
F44: =E44-#REF! -> #REF! | I44: . | J44: 우편료 | L44: 218210 | M44: . | N44: 차량보험료 | Q44: =U44/S44/1000 -> 626.585 | R44: * | S44: 2 | T44: = | U44: 1253170 | W44: . | X44: 우편료 | Z44: 218210
C45: 135차량비 | D45: 832 | E45: =SUM(U46:U46)/1000 -> 832 | F45: =E45-#REF! -> #REF! | G45: =(D45-E45) -> 0 | M45: ○ 차량비
F46: =E46-V47 -> 0 | J46: - | K46: 위험물안전관리자회비 | L46: 36000 | M46: . | N46: 정비 및 유지비 | Q46: =U46/S46/1000 -> 416 | R46: * | S46: 2 | T46: = | U46: 832000 | X46: - | Y46: 위험물안전관리자회비 | Z46: 36000
C47: 136연료비 | D47: 260 | E47: =U47/1000 -> 220 | G47: =(D47-E47) -> 40 | J47: - | K47: 시설물분 환경개선부담금(1,2기분) | L47: 692170 | M47: ○ 난방비(석유) | Q47: =U47/S47/1000 -> 44 | R47: * | S47: 5 | T47: = | U47: 220000 | X47: - | Y47: 시설물분 환경개선부담금(1,2기분) | Z47: 692170
A48: 02재산조성비 | D48: =D49 -> 926 | E48: =E49 -> 925.615 | F48: =E48-V49 -> 925.615 | G48: =(D48-E48) -> 0.385 | J48: - | K48: 자동차세 | L48: 360530 | X48: - | Y48: 자동차세 | Z48: 360530
B49: 21시설비 | D49: =D50 -> 926 | E49: =E50 -> 925.615 | F49: =E49-#REF! -> #REF! | G49: =(D49-E49) -> 0.385
C50: 211자산취득비 | D50: 926 | E50: =SUM(U51:U51)/1000 -> 925.615 | F50: =E50-#REF! -> #REF! | G50: =(D50-E50) -> 0.385 | M50: ○ 자산취득비
M51: . | N51: 차량구입(할부금) | Q51: =U51/S51/1000 -> 77.134583 | R51: * | S51: 12 | T51: = | U51: 925615
A52: 03사업비 | D52: =D53 -> 2250820 | E52: =E53 -> 2175227.6 | G52: =(D52-E52) -> 75592.379 | J52: - | K52: 냉장고(식당) | L52: 590000 | X52: - | Y52: 냉장고(식당) | Z52: 590000
B53: 31사업비 | D53: =SUM(D54,D57,D60,D63,D66,D69,D72,D75,D78,D81,D87,D89,D92) -> 2250820 | E53: =SUM(E54,E57,E60,E63,E66,E69,E72,E75,E78,E81,E87,E92,E89) -> 2175227.6 | G53: =(D53-E53) -> 75592.379
C54: 311한땀한땀사업 | D54: ='[2]세출 (2)'!$E$47 -> 97724.332 | E54: =SUM(U55:U56)/1000 -> 95364.257 | F54: =E54-#REF! -> #REF! | G54: =(D54-E54) -> 2360.075 | J54: - | K54: 보조금 | L54: 8519649 | M54: ○ 수용기관경비 | N54: 한땀한땀사업 | X54: - | Y54: 보조금 | Z54: 8519649
J55: - | K55: 입원비(보조금) | L55: 484452 | M55: . | N55: 인건비 | O55: =U55/Q55/S55/1000 -> 237.2955 | P55: * | Q55: 12 | R55: * | S55: 26 | T55: = | U55: 74036196 | X55: - | Y55: 입원비(보조금) | Z55: 484452
F56: =E56-V57 -> -558600 | I56: . | J56: 부식비(시비) | L56: =SUM(#REF!) -> #REF! | M56: . | N56: 사업비 | Q56: =U56/S56/1000 -> 1777.3384 | R56: * | S56: 12 | T56: = | U56: 21328061 | W56: . | X56: 부식비(시비) | Z56: =SUM(#REF!) -> #REF!
C57: 312청춘6099사업 | D57: ='[2]세출 (2)'!$E$49 -> 414999.97 | E57: =SUM(U58:U59)/1000 -> 395581.46 | F57: =E57-#REF! -> #REF! | G57: =(D57-E57) -> 19418.512 | H57: =L57 -> 558600 | I57: ○ 수용기관경비 | L57: =SUM(L58:L58) -> 558600 | M57: ○ | N57: 청춘6099사업 | V57: =Z57 -> 558600 | W57: ○ 수용기관경비 | Z57: =SUM(Z58:Z58) -> 558600
F58: =E58-#REF! -> #REF! | J58: - | K58: 식당물품 | L58: 558600 | M58: . | N58: 인건비 | O58: =U58/Q58/S58/1000 -> 302.70367 | P58: * | Q58: 12 | R58: * | S58: 20 | T58: = | U58: 72648880 | X58: - | Y58: 식당물품 | Z58: 558600
M59: . | N59: 사업비 | Q59: =U59/S59/1000 -> 26911.048 | R59: * | S59: 12 | T59: = | U59: 322932580
C60: 313우렁할매사업 | D60: ='[2]세출 (2)'!$E$51 -> 105312.51 | E60: =SUM(U61:U62)/1000 -> 105684.67 | G60: =(D60-E60) -> -372.159 | H60: =L60 -> #REF! | I60: ○ 피복비 | L60: =#REF!+#REF!+#REF! -> #REF! | M60: ○ | N60: 우렁할매사업 | V60: =Z60 -> #REF! | W60: ○ 피복비 | Z60: =#REF!+#REF!+#REF! -> #REF!
M61: . | N61: 인건비 | O61: =U61/Q61/S61/1000 -> 383.85185 | P61: * | Q61: 12 | R61: * | S61: 18 | T61: = | U61: 82912000
M62: . | N62: 사업비 | Q62: =U62/S62/1000 -> 1897.7222 | R62: * | S62: 12 | T62: = | U62: 22772666
C63: 314다이나믹택배 | D63: ='[2]세출 (2)'!$E$53 -> 448000.46 | E63: =SUM(U64:U65)/1000 -> 437247.53 | G63: =(D63-E63) -> 10752.929 | M63: ○ | N63: 다이나믹택배사업
M64: . | N64: 인건비 | O64: =U64/Q64/S64/1000 -> 510.86033 | P64: * | Q64: 12 | R64: * | S64: 60 | T64: = | U64: 367819439
M65: . | N65: 사업비 | Q65: =U65/S65/1000 -> 5785.6742 | R65: * | S65: 12 | T65: = | U65: 69428090
C66: 315이바구자전거 | D66: ='[2]세출 (2)'!$E$59 -> 106762.14 | E66: =SUM(U67:U68)/1000 -> 106149.05 | G66: =(D66-E66) -> 613.091 | M66: ○ | N66: 이바구자전거사업
M67: . | N67: 인건비 | O67: =U67/Q67/S67/1000 -> 199.90528 | P67: * | Q67: 12 | R67: * | S67: 30 | T67: = | U67: 71965900
M68: . | N68: 사업비 | Q68: =U68/S68/1000 -> 2848.5958 | R68: * | S68: 12 | T68: = | U68: 34183150
C69: 316화통한할매도시락 | D69: ='[2]세출 (2)'!$E$61 -> 187948.09 | E69: =SUM(U70:U71)/1000 -> 183514.38 | G69: =(D69-E69) -> 4433.706 | M69: ○ | N69: 화통한할매도시락사업
M70: ` | N70: 인건비 | O70: =U70/Q70/S70/1000 -> 575.39444 | P70: * | Q70: 12 | R70: * | S70: 15 | T70: = | U70: 103571000
M71: . | N71: 사업비 | Q71: =U71/S71/1000 -> 6661.9483 | R71: * | S71: 12 | T71: = | U71: 79943380
C72: 317어린이대공원사업 | D72: ='[2]세출 (2)'!$E$70 -> 65840.106 | E72: =SUM(U73:U74)/1000 -> 62538 | G72: =(D72-E72) -> 3302.106 | M72: ○ | N72: 어린이대공원사업
M73: . | N73: 인건비 | O73: =U73/Q73/S73/1000 -> 486.42783 | P73: * | Q73: 12 | R73: * | S73: 10 | T73: = | U73: 58371340
M74: . | N74: 사업비 | Q74: =U74/S74/1000 -> 347.22167 | R74: * | S74: 12 | T74: = | U74: 4166660
C75: 318화통한밥상사업 | D75: ='[2]세출 (2)'!$E$55 -> 169821.17 | E75: =SUM(U76:U77)/1000 -> 167526.62 | G75: =(D75-E75) -> 2294.544 | M75: ○ | N75: 화통한밥상사업
M76: . | N76: 인건비 | O76: =U76/Q76/S76/1000 -> 191.84208 | P76: * | Q76: 12 | R76: * | S76: 25 | T76: = | U76: 57552625
M77: . | N77: 사업비 | Q77: =U77/S77/1000 -> 9164.5 | R77: * | S77: 12 | T77: = | U77: 109974000
C78: 319하하호호사업 | D78: ='[2]세출 (2)'!$E$57 -> 91842.253 | E78: =SUM(U79:U80)/1000 -> 89279.25 | G78: =(D78-E78) -> 2563.003 | M78: ○ | N78: 하하호호사업
M79: . | N79: 인건비 | O79: =U79/Q79/S79/1000 -> 185.15847 | P79: * | Q79: 12 | R79: * | S79: 31 | T79: = | U79: 68878950
M80: . | N80: 사업비 | Q80: =U80/S80/1000 -> 1700.025 | R80: * | S80: 12 | T80: = | U80: 20400300
C81: 320지역형사업 | D81: ='[2]세출 (2)'!$E$63 -> 455340 | E81: =SUM(U82:Z86)/1000 -> 435387 | G81: =(D81-E81) -> 19953 | M81: ○ | N81: 지역형사업
M82: . | N82: 동구문화지킴이인건비 | O82: =U82/Q82/S82/1000 -> 220 | P82: * | Q82: 9 | R82: * | S82: 162 | T82: = | U82: 320760000
M83: . | N83: 동구문화지킴이인건비 | O83: =U83/Q83/S83/1000 -> 50 | P83: * | Q83: 5 | R83: * | S83: 162 | T83: = | U83: 40500000
M84: . | N84: 동구문화지킴이사업비 | Q84: =U84/S84/1000 -> 140 | R84: * | S84: 162 | T84: = | U84: 22680000
M85: . | N85: 너나우리지킴이인건비 | O85: =U85/Q85/S85/1000 -> 190.188 | P85: * | Q85: 5 | R85: * | S85: 50 | T85: = | U85: 47547000
M86: . | N86: 너나우리지킴이사업비 | Q86: =U86/S86/1000 -> 78 | R86: * | S86: 50 | T86: = | U86: 3900000
C87: 321전담인력 | D87: ='[2]세출 (2)'!$E$68 -> 36531 | E87: =SUM(U87:U88)/1000 -> 31795.5 | G87: =(D87-E87) -> 4735.5 | M87: ○ | N87: 전담인력인건비 | O87: =U87/Q87/S87/1000 -> 1353 | P87: * | Q87: 11 | R87: * | S87: 2 | T87: = | U87: 29766000
O88: =U88/Q88/S88/1000 -> 1014.75 | P88: * | Q88: 2 | R88: * | S88: 1 | T88: = | U88: 2029500
C89: 322영재교육카드제작사업 | D89: ='[2]세출 (2)'!$E$72 -> 46300 | E89: =SUM(U90:U91)/1000 -> 42570.028 | G89: =(D89-E89) -> 3729.972 | M89: ○ | N89: 영재교육카드제작사업
M90: . | N90: 인건비 | O90: =U90/Q90/S90/1000 -> 119.07111 | P90: * | Q90: 7 | R90: * | S90: 20 | T90: = | U90: 16669955
M91: . | N91: 사업비 | Q91: =U91/S91/1000 -> 3237.5091 | R91: * | S91: 8 | T91: = | U91: 25900073
C92: 323기타사업 | D92: ='[2]세출 (2)'!$E$74 -> 24398 | E92: =SUM(U93:Z97)/1000 -> 22589.9 | G92: =(D92-E92) -> 1808.1 | M92: ○ | N92: 기타사업
M93: . | N93: 직원교육 및 연수비 | Q93: =U93/S93/1000 -> 341.9 | R93: * | S93: 1 | T93: = | U93: 341900
M94: . | N94: 인센티브 | Q94: =U94/S94/1000 -> 15442 | R94: * | S94: 1 | T94: = | U94: 15442000
M95: . | N95: 어버이날행사비 | Q95: =U95/S95/1000 -> 896 | R95: * | S95: 1 | T95: = | U95: 896000
M96: . | N96: 고령자 운전성향조사 연구비 | Q96: =U96/S96/1000 -> 5610 | R96: * | S96: 1 | T96: = | U96: 5610000
M97: . | N97: 송년회행사비 | Q97: =U97/S97/1000 -> 300 | R97: * | S97: 1 | T97: = | U97: 300000
A98: 06잡지출 | D98: =D99 -> 18 | E98: =E99 -> 0 | G98: =(D98-E98) -> 18
B99: 61잡지출 | D99: =D100 -> 18 | E99: =E100 -> 0 | G99: =(D99-E99) -> 18 | I99: . | J99: 정기행사프로그램 | L99: =SUM(#REF!) -> #REF! | X99: - | Y99: 원내외식 | Z99: 17000
C100: 611잡지출 | D100: 18 | E100: 0 | G100: =(D100-E100) -> 18 | W100: . | X100: 정기행사프로그램 | Z100: =SUM(Z108:Z108) -> 30400
...
